BEGIN:VCALENDAR
VERSION:2.0
PRODID:-//hacksw/handcal//NONSGML v1.0//EN
CALSCALE:GREGORIAN
X-WR-TIMEZONE:Europe/Zurich
BEGIN:VEVENT
UID:0d11a0ba7e59761da77594b70836892e@wbzlenzburg.ch
ORGANIZER=Weiterbildungszentrum Lenzburg
LOCATION:Weiterbildungszentrum Lenzburg, Neuhofstrasse 36, 5600 Lenzburg
GEO:47.389309,8.191280
DTSTAMP:20260424T113746Z
DTSTART:20260511T160000Z
DTEND:20260511T180000Z
SUMMARY:Infoabend: Schreinermeister:in mit eidg. Diplom
END:VEVENT
END:VCALENDAR