BEGIN:VCALENDAR
VERSION:2.0
PRODID:-//hacksw/handcal//NONSGML v1.0//EN
CALSCALE:GREGORIAN
X-WR-TIMEZONE:Europe/Zurich
BEGIN:VEVENT
UID:85e8af753e57028cf3f8636f73e7e4a0@wbzlenzburg.ch
ORGANIZER=Weiterbildungszentrum Lenzburg
LOCATION:Weiterbildungszentrum Lenzburg, Neuhofstrasse 36, 5600 Lenzburg
GEO:47.389309,8.191280
DTSTAMP:20260424T113744Z
DTSTART:20260903T160000Z
DTEND:20260903T180000Z
SUMMARY:Infoabend: Automatikfachmann:frau mit eidg. Fachausweis
END:VEVENT
END:VCALENDAR