BEGIN:VCALENDAR
VERSION:2.0
PRODID:-//hacksw/handcal//NONSGML v1.0//EN
CALSCALE:GREGORIAN
X-WR-TIMEZONE:Europe/Zurich
BEGIN:VEVENT
UID:d9bddd24d8a6c1079e6db61bfee84b3f@wbzlenzburg.ch
ORGANIZER=Weiterbildungszentrum Lenzburg
LOCATION:Weiterbildungszentrum Lenzburg, Neuhofstrasse 36, 5600 Lenzburg
GEO:47.389309,8.191280
DTSTAMP:20260424T113616Z
DTSTART:20261019T160000Z
DTEND:20261019T180000Z
SUMMARY:Infoabend: Vorarbeiter:in Werkdienst mit Zertifikat wbz
END:VEVENT
END:VCALENDAR