BEGIN:VCALENDAR
VERSION:2.0
PRODID:-//hacksw/handcal//NONSGML v1.0//EN
CALSCALE:GREGORIAN
X-WR-TIMEZONE:Europe/Zurich
BEGIN:VEVENT
UID:a5b95b756ed60d376a78b4f3198e751a@wbzlenzburg.ch
ORGANIZER=Weiterbildungszentrum Lenzburg
LOCATION:Weiterbildungszentrum Lenzburg, Neuhofstrasse 36, 5600 Lenzburg
GEO:47.389309,8.191280
DTSTAMP:20260424T113630Z
DTSTART:20260903T160000Z
DTEND:20260903T180000Z
SUMMARY:Infoabend: Produktionsleiter:in Schreinerei mit eidgenössischem Fachausweis
END:VEVENT
END:VCALENDAR