BEGIN:VCALENDAR
VERSION:2.0
PRODID:-//hacksw/handcal//NONSGML v1.0//EN
CALSCALE:GREGORIAN
X-WR-TIMEZONE:Europe/Zurich
BEGIN:VEVENT
UID:9edba949d1b4db4f1710f9450b62613f@wbzlenzburg.ch
ORGANIZER=Weiterbildungszentrum Lenzburg
LOCATION:Weiterbildungszentrum Lenzburg, Neuhofstrasse 36, 5600 Lenzburg
GEO:47.389309,8.191280
DTSTAMP:20260424T113659Z
DTSTART:20260623T160000Z
DTEND:20260623T180000Z
SUMMARY:Infoabend: Holzbau Vorarbeiter:in mit eidg. Fachausweis
END:VEVENT
END:VCALENDAR