BEGIN:VCALENDAR
VERSION:2.0
PRODID:-//hacksw/handcal//NONSGML v1.0//EN
CALSCALE:GREGORIAN
X-WR-TIMEZONE:Europe/Zurich
BEGIN:VEVENT
UID:893b07c61935e576c1eb2b9a7b251fc9@wbzlenzburg.ch
ORGANIZER=Weiterbildungszentrum Lenzburg
LOCATION:Weiterbildungszentrum Lenzburg, Neuhofstrasse 36, 5600 Lenzburg
GEO:47.389309,8.191280
DTSTAMP:20260424T114231Z
DTSTART:20260623T160000Z
DTEND:20260623T180000Z
SUMMARY:Infoabend: Produktionsleiter:in Schreinerei mit eidgenössischem Fachausweis
END:VEVENT
END:VCALENDAR