BEGIN:VCALENDAR
VERSION:2.0
PRODID:-//hacksw/handcal//NONSGML v1.0//EN
CALSCALE:GREGORIAN
X-WR-TIMEZONE:Europe/Zurich
BEGIN:VEVENT
UID:7a3d345d14ee87d2e12a3605ec9c0933@wbzlenzburg.ch
ORGANIZER=Weiterbildungszentrum Lenzburg
LOCATION:Weiterbildungszentrum Lenzburg, Neuhofstrasse 36, 5600 Lenzburg
GEO:47.389309,8.191280
DTSTAMP:20260424T130539Z
DTSTART:20260623T160000Z
DTEND:20260623T180000Z
SUMMARY:Infoabend: Schreinermeister:in mit eidg. Diplom
END:VEVENT
END:VCALENDAR