BEGIN:VCALENDAR
VERSION:2.0
PRODID:-//hacksw/handcal//NONSGML v1.0//EN
CALSCALE:GREGORIAN
X-WR-TIMEZONE:Europe/Zurich
BEGIN:VEVENT
UID:d8672c49fa721d5eaef1ec13fec6d089@wbzlenzburg.ch
ORGANIZER=Weiterbildungszentrum Lenzburg
LOCATION:Weiterbildungszentrum Lenzburg, Neuhofstrasse 36, 5600 Lenzburg
GEO:47.389309,8.191280
DTSTAMP:20260424T130528Z
DTSTART:20260602T160000Z
DTEND:20260602T180000Z
SUMMARY:Infoabend: AVOR-Spezialist:in mit Diplom VSSM
END:VEVENT
END:VCALENDAR