BEGIN:VCALENDAR
VERSION:2.0
PRODID:-//hacksw/handcal//NONSGML v1.0//EN
CALSCALE:GREGORIAN
X-WR-TIMEZONE:Europe/Zurich
BEGIN:VEVENT
UID:e6c1e29ba137ad6e0e8c7fb7608619b1@wbzlenzburg.ch
ORGANIZER=Weiterbildungszentrum Lenzburg
LOCATION:Weiterbildungszentrum Lenzburg, Neuhofstrasse 36, 5600 Lenzburg
GEO:47.389309,8.191280
DTSTAMP:20260424T114306Z
DTSTART:20260602T160000Z
DTEND:20260602T180000Z
SUMMARY:Infoabend: Vorarbeiter:in Werkdienst mit Zertifikat wbz
END:VEVENT
END:VCALENDAR