BEGIN:VCALENDAR
VERSION:2.0
PRODID:-//hacksw/handcal//NONSGML v1.0//EN
CALSCALE:GREGORIAN
X-WR-TIMEZONE:Europe/Zurich
BEGIN:VEVENT
UID:d5fe13082443f1b679226dd11990a09b@wbzlenzburg.ch
ORGANIZER=Weiterbildungszentrum Lenzburg
LOCATION:Weiterbildungszentrum Lenzburg, Neuhofstrasse 36, 5600 Lenzburg
GEO:47.389309,8.191280
DTSTAMP:20260424T113746Z
DTSTART:20260602T160000Z
DTEND:20260602T180000Z
SUMMARY:Infoabend: Produktionsfachmann:frau (Maschinenbau) mit eidg. Fachausweis
END:VEVENT
END:VCALENDAR