BEGIN:VCALENDAR
VERSION:2.0
PRODID:-//hacksw/handcal//NONSGML v1.0//EN
CALSCALE:GREGORIAN
X-WR-TIMEZONE:Europe/Zurich
BEGIN:VEVENT
UID:c9bcaa05d65d00ab75b0d3d1a5394f4f@wbzlenzburg.ch
ORGANIZER=Weiterbildungszentrum Lenzburg
LOCATION:Weiterbildungszentrum Lenzburg, Neuhofstrasse 36, 5600 Lenzburg
GEO:47.389309,8.191280
DTSTAMP:20260424T113945Z
DTSTART:20260602T160000Z
DTEND:20260602T180000Z
SUMMARY:Infoabend: Solarteur:in® mit Zertifikat
END:VEVENT
END:VCALENDAR