BEGIN:VCALENDAR
VERSION:2.0
PRODID:-//hacksw/handcal//NONSGML v1.0//EN
CALSCALE:GREGORIAN
X-WR-TIMEZONE:Europe/Zurich
BEGIN:VEVENT
UID:5ce34ae4f6a460c5fca33b38281e55b9@wbzlenzburg.ch
ORGANIZER=Weiterbildungszentrum Lenzburg
LOCATION:Weiterbildungszentrum Lenzburg, Neuhofstrasse 36, 5600 Lenzburg
GEO:47.389309,8.191280
DTSTAMP:20260424T114304Z
DTSTART:20260602T160000Z
DTEND:20260602T180000Z
SUMMARY:Infoabend: Bereichsleiter:in Hotellerie Hauswirtschaft
END:VEVENT
END:VCALENDAR