BEGIN:VCALENDAR
VERSION:2.0
PRODID:-//hacksw/handcal//NONSGML v1.0//EN
CALSCALE:GREGORIAN
X-WR-TIMEZONE:Europe/Zurich
BEGIN:VEVENT
UID:06777a77bbc5be11950ff6a5b1b64dc0@wbzlenzburg.ch
ORGANIZER=Weiterbildungszentrum Lenzburg
LOCATION:Weiterbildungszentrum Lenzburg, Neuhofstrasse 36, 5600 Lenzburg
GEO:47.389309,8.191280
DTSTAMP:20260424T130912Z
DTSTART:20260428T160000Z
DTEND:20260428T180000Z
SUMMARY:Infoabend: Technischer Kaufmann:frau mit eidg. Fachausweis
END:VEVENT
END:VCALENDAR