BEGIN:VCALENDAR
VERSION:2.0
PRODID:-//hacksw/handcal//NONSGML v1.0//EN
CALSCALE:GREGORIAN
X-WR-TIMEZONE:Europe/Zurich
BEGIN:VEVENT
UID:28e9401d4cbc852b65b88a36c5718970@wbzlenzburg.ch
ORGANIZER=Weiterbildungszentrum Lenzburg
LOCATION:Weiterbildungszentrum Lenzburg, Neuhofstrasse 36, 5600 Lenzburg
GEO:47.389309,8.191280
DTSTAMP:20260424T114420Z
DTSTART:20260428T160000Z
DTEND:20260428T180000Z
SUMMARY:Infoabend: AVOR-Spezialist:in mit Diplom VSSM
END:VEVENT
END:VCALENDAR