BEGIN:VCALENDAR
VERSION:2.0
PRODID:-//hacksw/handcal//NONSGML v1.0//EN
CALSCALE:GREGORIAN
X-WR-TIMEZONE:Europe/Zurich
BEGIN:VEVENT
UID:d24be0b99f2fddb6ff5c8b073027baab@wbzlenzburg.ch
ORGANIZER=Weiterbildungszentrum Lenzburg
LOCATION:Weiterbildungszentrum Lenzburg, Neuhofstrasse 36, 5600 Lenzburg
GEO:47.389309,8.191280
DTSTAMP:20260424T114107Z
DTSTART:20260428T160000Z
DTEND:20260428T180000Z
SUMMARY:Infoabend: Montagespezialist:in mit Diplom VSSM (bis 2024 Fachmonteur:in)
END:VEVENT
END:VCALENDAR