BEGIN:VCALENDAR
VERSION:2.0
PRODID:-//hacksw/handcal//NONSGML v1.0//EN
CALSCALE:GREGORIAN
X-WR-TIMEZONE:Europe/Zurich
BEGIN:VEVENT
UID:cdc6e9b41215d5424426ecd03e6661fb@wbzlenzburg.ch
ORGANIZER=Weiterbildungszentrum Lenzburg
LOCATION:Weiterbildungszentrum Lenzburg, Neuhofstrasse 36, 5600 Lenzburg
GEO:47.389309,8.191280
DTSTAMP:20260424T130529Z
DTSTART:20260428T160000Z
DTEND:20260428T180000Z
SUMMARY:Infoabend: Hauswart:in mit eidg. Fachausweis
END:VEVENT
END:VCALENDAR