BEGIN:VCALENDAR
VERSION:2.0
PRODID:-//hacksw/handcal//NONSGML v1.0//EN
CALSCALE:GREGORIAN
X-WR-TIMEZONE:Europe/Zurich
BEGIN:VEVENT
UID:1f88a9baf74c2e106fa89ea2db655364@wbzlenzburg.ch
ORGANIZER=Weiterbildungszentrum Lenzburg
LOCATION:Weiterbildungszentrum Lenzburg, Neuhofstrasse 36, 5600 Lenzburg
GEO:47.389309,8.191280
DTSTAMP:20260424T114106Z
DTSTART:20260428T160000Z
DTEND:20260428T180000Z
SUMMARY:Infoabend: Projektleiter:in Solarmontage mit eidg. Fachausweis
END:VEVENT
END:VCALENDAR